BEGIN:VCALENDAR
VERSION:2.0
PRODID:-//The Reading League - ECPv6.15.20//NONSGML v1.0//EN
CALSCALE:GREGORIAN
METHOD:PUBLISH
X-WR-CALNAME:The Reading League
X-ORIGINAL-URL:https://www.thereadingleague.org
X-WR-CALDESC:Events for The Reading League
REFRESH-INTERVAL;VALUE=DURATION:PT1H
X-Robots-Tag:noindex
X-PUBLISHED-TTL:PT1H
BEGIN:VTIMEZONE
TZID:America/Denver
BEGIN:DAYLIGHT
TZOFFSETFROM:-0700
TZOFFSETTO:-0600
TZNAME:MDT
DTSTART:20230312T090000
END:DAYLIGHT
BEGIN:STANDARD
TZOFFSETFROM:-0600
TZOFFSETTO:-0700
TZNAME:MST
DTSTART:20231105T080000
END:STANDARD
BEGIN:DAYLIGHT
TZOFFSETFROM:-0700
TZOFFSETTO:-0600
TZNAME:MDT
DTSTART:20240310T090000
END:DAYLIGHT
BEGIN:STANDARD
TZOFFSETFROM:-0600
TZOFFSETTO:-0700
TZNAME:MST
DTSTART:20241103T080000
END:STANDARD
BEGIN:DAYLIGHT
TZOFFSETFROM:-0700
TZOFFSETTO:-0600
TZNAME:MDT
DTSTART:20250309T090000
END:DAYLIGHT
BEGIN:STANDARD
TZOFFSETFROM:-0600
TZOFFSETTO:-0700
TZNAME:MST
DTSTART:20251102T080000
END:STANDARD
END:VTIMEZONE
BEGIN:VEVENT
DTSTART;TZID=America/Denver:20240611T190000
DTEND;TZID=America/Denver:20240611T203000
DTSTAMP:20260425T232745
CREATED:20240508T192032Z
LAST-MODIFIED:20240508T192156Z
UID:10000365-1718132400-1718137800@www.thereadingleague.org
SUMMARY:"The Right to Read" Virtual Movie Night
DESCRIPTION:Get ready for an unforgettable movie night experience! We are thrilled to invite you to join us for a virtual screening of Kareem Weaver’s thought-provoking film\, “The Right to Read.” \n“The Right to Read” is more than just a movie; it’s a powerful exploration of the fundamental importance of literacy in today’s society. Through captivating storytelling\, Kareem Weaver delves into the implications\, challenges\, and opportunities surrounding the right to read\, sparking crucial conversations and inspiring action. \nRegister Here
URL:https://www.thereadingleague.org/calendars/the-right-to-read-virtual-movie-night/
CATEGORIES:Chapters
ORGANIZER;CN="The Reading League Wyoming":MAILTO:info@wy.thereadingleague.org
END:VEVENT
END:VCALENDAR